BEGIN:VCALENDAR
VERSION:2.0
PRODID:-//ChamberMaster//Event Calendar 2.0//EN
METHOD:PUBLISH
X-PUBLISHED-TTL:P3D
REFRESH-INTERVAL:P3D
CALSCALE:GREGORIAN
BEGIN:VEVENT
DTSTART:20171012T150000Z
DTEND:20171012T160000Z
X-MICROSOFT-CDO-ALLDAYEVENT:FALSE
SUMMARY:Canceled-Ambassador Committee Meeting
DESCRIPTION:Serving as the goodwill arm of the Chamber\, the Ambassadors assist in various activities including: Grand Opening's\, Ribbon-Cutting's\, Mixers\, Wake-Up's\, and many other events and fundraisers. It is the goal of the Ambassadors to increase membership and members' knowledge of programs\, services\, and benefits of membership with the Vacaville Chamber of Commerce.
X-ALT-DESC;FMTTYPE=text/html:Serving as the goodwill arm of the Chamber\, the Ambassadors assist in various activities including: Grand Opening&#39\;s\, Ribbon-Cutting&#39\;s\, Mixers\, Wake-Up&#39\;s\, and many other events and fundraisers. It is the goal of the Ambassadors to increase membership and members&#39\; knowledge of programs\, services\, and benefits of membership with the Vacaville Chamber of Commerce.
LOCATION:Hampton Inn & Suites\, 800 Mason Street\, Vacaville\, CA 95688
UID:e.1559.318
SEQUENCE:3
DTSTAMP:20260420T054848Z
URL:https://business.vacavillechamber.com/events/details/canceled-ambassador-committee-meeting-318
END:VEVENT

END:VCALENDAR
