BEGIN:VCALENDAR
VERSION:2.0
PRODID:-//ChamberMaster//Event Calendar 2.0//EN
METHOD:PUBLISH
X-PUBLISHED-TTL:P3D
REFRESH-INTERVAL:P3D
CALSCALE:GREGORIAN
BEGIN:VEVENT
DTSTART:20160212T180000Z
DTEND:20160212T190000Z
X-MICROSOFT-CDO-ALLDAYEVENT:FALSE
SUMMARY:California Medical Facility Tour
DESCRIPTION:California Medical Facility Tour
X-ALT-DESC;FMTTYPE=text/html:California Medical Facility Tour
LOCATION:1600 California Drive Vacaville\, CA 95687
UID:e.1559.1820
SEQUENCE:3
DTSTAMP:20260421T055102Z
URL:https://business.vacavillechamber.com/events/details/california-medical-facility-tour-02-12-2016-1820
END:VEVENT

END:VCALENDAR
