BEGIN:VCALENDAR
VERSION:2.0
PRODID:-//ChamberMaster//Event Calendar 2.0//EN
METHOD:PUBLISH
X-PUBLISHED-TTL:P3D
REFRESH-INTERVAL:P3D
CALSCALE:GREGORIAN
BEGIN:VEVENT
DTSTART:20300206T170000Z
DTEND:20300206T180000Z
X-MICROSOFT-CDO-ALLDAYEVENT:FALSE
SUMMARY:Business Resources Committee
DESCRIPTION:The Business Resources Committee is at the heart of planning programs and events that develop our work force\, integrate with students and school mentoring programs\, and promote jobs within our community.
X-ALT-DESC;FMTTYPE=text/html:The Business Resources Committee is at the heart of planning programs and events that develop our work force\, integrate with students and school mentoring programs\, and promote jobs within our community.
LOCATION:Virtual- Please email Debbie@VacavilleChamber.com for the Zoom link.
UID:e.1559.5665
SEQUENCE:3
DTSTAMP:20260422T014234Z
URL:https://business.vacavillechamber.com/events/details/business-resources-committee-02-06-2030-5665
END:VEVENT

END:VCALENDAR
