BEGIN:VCALENDAR
VERSION:2.0
PRODID:-//ChamberMaster//Event Calendar 2.0//EN
METHOD:PUBLISH
X-PUBLISHED-TTL:P3D
REFRESH-INTERVAL:P3D
CALSCALE:GREGORIAN
BEGIN:VEVENT
DTSTART:20290711T154500Z
DTEND:20290711T170000Z
X-MICROSOFT-CDO-ALLDAYEVENT:FALSE
SUMMARY:Business Issues Forum
DESCRIPTION:Join fellow businesses\, civic leaders and community members at this monthly forum to learn about and discuss topics from our current news and business issues headlines\, from local to national levels.
X-ALT-DESC;FMTTYPE=text/html:Join fellow businesses\, civic leaders and community members at this monthly forum to learn about and discuss topics from our current news and business issues headlines\, from local to national levels.
LOCATION:Travis Credit Union Community Room 1 Travis Way Vacaville\, CA 95687
UID:e.1559.4742
SEQUENCE:3
DTSTAMP:20260421T120108Z
URL:https://business.vacavillechamber.com/events/details/business-issues-forum-07-11-2029-4742
END:VEVENT

END:VCALENDAR
