BEGIN:VCALENDAR
VERSION:2.0
PRODID:-//ChamberMaster//Event Calendar 2.0//EN
METHOD:PUBLISH
X-PUBLISHED-TTL:P3D
REFRESH-INTERVAL:P3D
CALSCALE:GREGORIAN
BEGIN:VEVENT
DTSTART:20180713T160000Z
DTEND:20180713T170000Z
X-MICROSOFT-CDO-ALLDAYEVENT:FALSE
SUMMARY:Business Issues Educational Forum - Tax Reform Act Impacts
DESCRIPTION:The Business Issues Educational Forum monitors\, evaluates and acts upon proposed city\, county\, and state issues which could effect the Vacaville business community. \n\n\n\nThis month's presentation will educate business owners on the Tax Reform Act of 2018 and its impacts on businesses\, individuals and estates.
X-ALT-DESC;FMTTYPE=text/html:<p>The Business Issues Educational Forum monitors\, evaluates and acts upon proposed city\, county\, and state issues which could effect the Vacaville business community.&nbsp\;<br />\n<br />\nThis month&#39\;s presentation will educate business owners on the Tax Reform Act of 2018 and its impacts on businesses\, individuals and estates.</p>\n
LOCATION:Community Room at Travis Credit Union Corporate Office. 1 Travis Way\, Vacaville\, CA 95688.
UID:e.1559.198
SEQUENCE:3
DTSTAMP:20260419T154855Z
URL:https://business.vacavillechamber.com/events/details/business-issues-educational-forum-tax-reform-act-impacts-198
END:VEVENT

END:VCALENDAR
