BEGIN:VCALENDAR
VERSION:2.0
PRODID:-//ChamberMaster//Event Calendar 2.0//EN
METHOD:PUBLISH
X-PUBLISHED-TTL:P3D
REFRESH-INTERVAL:P3D
CALSCALE:GREGORIAN
BEGIN:VEVENT
DTSTART:20181109T170000Z
DTEND:20181109T180000Z
X-MICROSOFT-CDO-ALLDAYEVENT:FALSE
SUMMARY:Business Issues Educational Forum - NSCAR
DESCRIPTION:The Business Issues Educational Forum monitors\, evaluates and acts upon proposed city\, county\, and state issues which could effect the Vacaville business community. The Northern Solano County Association of Realtors will present current trend information and forecasting data on the local housing market. They will also provide insight on affordable housing issues.
X-ALT-DESC;FMTTYPE=text/html:<p>The Business Issues Educational Forum monitors\, evaluates and acts upon proposed city\, county\, and state issues which could effect the Vacaville business community. The Northern Solano County Association of Realtors will present current trend information and forecasting data on the local housing market. They will also provide insight on&nbsp\;affordable housing issues.</p>\n
LOCATION:Community Room at Travis Credit Union Corporate Office. 1 Travis Way\, Vacaville\, CA 95688.
UID:e.1559.202
SEQUENCE:3
DTSTAMP:20260421T094206Z
URL:https://business.vacavillechamber.com/events/details/business-issues-educational-forum-nscar-202
END:VEVENT

END:VCALENDAR
