BEGIN:VCALENDAR
VERSION:2.0
PRODID:-//ChamberMaster//Event Calendar 2.0//EN
METHOD:PUBLISH
X-PUBLISHED-TTL:P3D
REFRESH-INTERVAL:P3D
CALSCALE:GREGORIAN
BEGIN:VEVENT
DTSTART:20171215T170000Z
DTEND:20171215T183000Z
X-MICROSOFT-CDO-ALLDAYEVENT:FALSE
SUMMARY:Business Issues Educational Forum
DESCRIPTION:This month's Forum will provide Water Education with a panel of experts.
X-ALT-DESC;FMTTYPE=text/html:<p>This month&#39\;s Forum will provide Water Education with a panel of experts.</p>\n
LOCATION:Community Room at Travis Credit Union Corporate Office. 1 Travis Way\, Vacaville\, CA 95688.
UID:e.1559.191
SEQUENCE:3
DTSTAMP:20260420T013301Z
URL:https://business.vacavillechamber.com/events/details/business-issues-educational-forum-12-08-2017-191
END:VEVENT

END:VCALENDAR
