BEGIN:VCALENDAR
VERSION:2.0
PRODID:-//ChamberMaster//Event Calendar 2.0//EN
METHOD:PUBLISH
X-PUBLISHED-TTL:P3D
REFRESH-INTERVAL:P3D
CALSCALE:GREGORIAN
BEGIN:VEVENT
DTSTART:20150814T160000Z
DTEND:20150814T170000Z
X-MICROSOFT-CDO-ALLDAYEVENT:FALSE
SUMMARY:Business Issues Educational Forum
DESCRIPTION:The Business Issues Educational Forum monitors\, evaluates and acts upon proposed city\, county\, and state issues which could effect the Vacaville business community. \n\n\n\nThe STA's Comprehensive Transportation Plan is being updated. "Solano 2040" is being developed with input from our member agencies and the community. The Plan identifies and prioritizes the transportation needs and funding throughout Solano County for the next 25 years.
X-ALT-DESC;FMTTYPE=text/html:<p>The Business Issues Educational Forum monitors\, evaluates and acts upon proposed city\, county\, and state issues which could effect the Vacaville business community.&nbsp\;<br />\n<br />\nThe STA&#39\;s Comprehensive Transportation Plan is being updated. &quot\;Solano 2040&quot\; is being developed with input from our member agencies and the community. The Plan identifies and prioritizes the transportation needs and funding throughout Solano County for the next 25 years.</p>\n
LOCATION:Community Room at Travis Credit Union's Corporate Office 1 Travis Way\, Vacaville\, CA 95688.
UID:e.1559.163
SEQUENCE:3
DTSTAMP:20260421T132308Z
URL:https://business.vacavillechamber.com/events/details/business-issues-educational-forum-08-14-2015-163
END:VEVENT

END:VCALENDAR
