BEGIN:VCALENDAR
VERSION:2.0
PRODID:-//ChamberMaster//Event Calendar 2.0//EN
METHOD:PUBLISH
X-PUBLISHED-TTL:P3D
REFRESH-INTERVAL:P3D
CALSCALE:GREGORIAN
BEGIN:VEVENT
DTSTART:20150612T160000Z
DTEND:20150612T170000Z
X-MICROSOFT-CDO-ALLDAYEVENT:FALSE
SUMMARY:Business Issues Educational Forum
DESCRIPTION:Join us at our Business Issues Educational Forum and listen to a presentation titled "California's Drought Opportunities & Challenges" presented by the City of Vacaville's Utility Director\, Royce Cunningham.
X-ALT-DESC;FMTTYPE=text/html:Join us at our Business Issues Educational Forum and listen to a presentation&nbsp\;titled&nbsp\;&quot\;California&#39\;s Drought Opportunities &amp\; Challenges&quot\;&nbsp\;presented by the City of Vacaville&#39\;s Utility Director\, Royce Cunningham.&nbsp\;
LOCATION:Community Room at Travis Credit Union Corporate Office. 1 Travis Way\, Vacaville\, CA 95688.
UID:e.1559.161
SEQUENCE:3
DTSTAMP:20260421T160552Z
URL:https://business.vacavillechamber.com/events/details/business-issues-educational-forum-06-12-2015-161
END:VEVENT

END:VCALENDAR
