BEGIN:VCALENDAR
VERSION:2.0
PRODID:-//ChamberMaster//Event Calendar 2.0//EN
METHOD:PUBLISH
X-PUBLISHED-TTL:P3D
REFRESH-INTERVAL:P3D
CALSCALE:GREGORIAN
BEGIN:VEVENT
DTSTART:20180222T110000Z
DTEND:20180222T130000Z
X-MICROSOFT-CDO-ALLDAYEVENT:FALSE
SUMMARY:Business Issues Educational Forum
DESCRIPTION:The Business Issues Educational Forum monitors\, evaluates and acts upon proposed city\, county\, and state issues which could effect the Vacaville business community. We are inviting panelists representing different interests to provide information on the new cannabis industry.
X-ALT-DESC;FMTTYPE=text/html:<p>The Business Issues Educational Forum monitors\, evaluates and acts upon proposed city\, county\, and state issues which could effect the Vacaville business community. We are inviting panelists representing different interests to provide information on the new cannabis industry.</p>\n
LOCATION:Vacaville Opera House 560 Main Street
UID:e.1559.193
SEQUENCE:3
DTSTAMP:20260419T225806Z
URL:https://business.vacavillechamber.com/events/details/business-issues-educational-forum-02-09-2018-193
END:VEVENT

END:VCALENDAR
