BEGIN:VCALENDAR
VERSION:2.0
PRODID:-//ChamberMaster//Event Calendar 2.0//EN
METHOD:PUBLISH
X-PUBLISHED-TTL:P3D
REFRESH-INTERVAL:P3D
CALSCALE:GREGORIAN
BEGIN:VEVENT
DTSTART:20151113T160000Z
DTEND:20151113T170000Z
X-MICROSOFT-CDO-ALLDAYEVENT:FALSE
SUMMARY:Business Issues Education Forum
DESCRIPTION:Forum to discuss current issues facing local businesses.
X-ALT-DESC;FMTTYPE=text/html:Forum to discuss current issues facing local businesses.
LOCATION:Travis Credit Union's Community Room
UID:e.1559.1785
SEQUENCE:3
DTSTAMP:20260421T094728Z
URL:https://business.vacavillechamber.com/events/details/business-issues-education-forum-11-13-2015-1785
END:VEVENT

END:VCALENDAR
