BEGIN:VCALENDAR
VERSION:2.0
PRODID:-//ChamberMaster//Event Calendar 2.0//EN
METHOD:PUBLISH
X-PUBLISHED-TTL:P3D
REFRESH-INTERVAL:P3D
CALSCALE:GREGORIAN
BEGIN:VEVENT
DTSTART:20200408T150000Z
DTEND:20200408T160000Z
X-MICROSOFT-CDO-ALLDAYEVENT:FALSE
SUMMARY:Business In Action-Online Meeting
DESCRIPTION:Coffee\, Speaker and Engagement - a different kind of networking event.\n\nDiscuss online meeting Do's/Dont's and advanced video techniques. BYOB!
X-ALT-DESC;FMTTYPE=text/html:Coffee\, Speaker and Engagement - a different kind of networking event.<br />\n<span style="color: rgb(34\, 34\, 34)\; font-family: Roboto\, arial\, sans-serif\; font-size: 14px\;">Discuss online meeting Do&#39\;s/Dont&#39\;s and advanced video techniques. BYOB!</span>
LOCATION:Zoom Meeting - Link will be shared with Registrants
UID:e.1559.3252
SEQUENCE:3
DTSTAMP:20260420T094850Z
URL:https://business.vacavillechamber.com/events/details/business-in-action-online-meeting-3252
END:VEVENT

END:VCALENDAR
