BEGIN:VCALENDAR
VERSION:2.0
PRODID:-//ChamberMaster//Event Calendar 2.0//EN
METHOD:PUBLISH
X-PUBLISHED-TTL:P3D
REFRESH-INTERVAL:P3D
CALSCALE:GREGORIAN
BEGIN:VEVENT
DTSTART:20150807T003000Z
DTEND:20150807T020000Z
X-MICROSOFT-CDO-ALLDAYEVENT:FALSE
SUMMARY:Business After Hours Mixer hosted by Wells Fargo Bank
DESCRIPTION:Join us for our Business After Hours Mixer hosted by Wells Fargo Bank! Come connect with Chamber members and enjoy great camaraderie\, delicious appetizers and wine.
X-ALT-DESC;FMTTYPE=text/html:Join us for our Business After Hours Mixer hosted by Wells Fargo Bank! Come connect with Chamber members and enjoy great camaraderie\, delicious appetizers and wine.&nbsp\;
LOCATION:120 Browns Valley Parkway\, Vacaville
UID:e.1559.1759
SEQUENCE:3
DTSTAMP:20260421T132701Z
URL:https://business.vacavillechamber.com/events/details/business-after-hours-mixer-hosted-by-wells-fargo-bank-08-06-2015-1759
END:VEVENT

END:VCALENDAR
