BEGIN:VCALENDAR
VERSION:2.0
PRODID:-//ChamberMaster//Event Calendar 2.0//EN
METHOD:PUBLISH
X-PUBLISHED-TTL:P3D
REFRESH-INTERVAL:P3D
CALSCALE:GREGORIAN
BEGIN:VEVENT
DTSTART:20170415T210000Z
DTEND:20170416T230000Z
X-MICROSOFT-CDO-ALLDAYEVENT:FALSE
SUMMARY:Budweiser Clydesdales- Hitch Parade
DESCRIPTION:Budweiser Clydesdales are returning to Fairfield for a spring visit!
X-ALT-DESC;FMTTYPE=text/html:Budweiser Clydesdales are returning to Fairfield for a spring visit!
LOCATION:April 15 & APril 16th 2-4 pm
UID:e.1559.1979
SEQUENCE:3
DTSTAMP:20260420T121655Z
URL:https://business.vacavillechamber.com/events/details/budweiser-clydesdales-hitch-parade-1979
END:VEVENT

END:VCALENDAR
