BEGIN:VCALENDAR
VERSION:2.0
PRODID:-//ChamberMaster//Event Calendar 2.0//EN
METHOD:PUBLISH
X-PUBLISHED-TTL:P3D
REFRESH-INTERVAL:P3D
CALSCALE:GREGORIAN
BEGIN:VEVENT
DTSTART:20170411T180000Z
DTEND:20170413T190000Z
X-MICROSOFT-CDO-ALLDAYEVENT:FALSE
SUMMARY:Budweiser Clydesdales- Camera Days
DESCRIPTION:Budweiser Clydesdales are returning to Fairfield for a spring visit!
X-ALT-DESC;FMTTYPE=text/html:Budweiser Clydesdales are returning to Fairfield for a spring visit!
LOCATION:3101 Busch Dr\, Fairfield
UID:e.1559.1977
SEQUENCE:3
DTSTAMP:20260420T121535Z
URL:https://business.vacavillechamber.com/events/details/budweiser-clydesdales-camera-days-1977
END:VEVENT

END:VCALENDAR
