BEGIN:VCALENDAR
VERSION:2.0
PRODID:-//ChamberMaster//Event Calendar 2.0//EN
METHOD:PUBLISH
X-PUBLISHED-TTL:P3D
REFRESH-INTERVAL:P3D
CALSCALE:GREGORIAN
BEGIN:VEVENT
DTSTART:20141016T190000Z
DTEND:20141016T203000Z
X-MICROSOFT-CDO-ALLDAYEVENT:FALSE
SUMMARY:Breast Cancer Luncheon
DESCRIPTION:NorthBay Healthcare invites you to attend our Breast Cancer Conference. Join us for an update on treatment options including current recommendations for detection and treatment of early-stage beast cancer.
X-ALT-DESC;FMTTYPE=text/html:NorthBay Healthcare invites you to attend our Breast Cancer Conference. Join us for an update on treatment options including current recommendations for detection and treatment of early-stage beast cancer.
LOCATION:NorthBay HealthCare Administration Center 4500 Business Center Drive Fairfield\,CA 94533
UID:e.1559.1574
SEQUENCE:3
DTSTAMP:20260422T025642Z
URL:https://business.vacavillechamber.com/events/details/breast-cancer-luncheon-10-16-2014-1574
END:VEVENT

END:VCALENDAR
