BEGIN:VCALENDAR
VERSION:2.0
PRODID:-//ChamberMaster//Event Calendar 2.0//EN
METHOD:PUBLISH
X-PUBLISHED-TTL:P3D
REFRESH-INTERVAL:P3D
CALSCALE:GREGORIAN
BEGIN:VEVENT
DTSTART:20160819T001500Z
DTEND:20160819T011500Z
X-MICROSOFT-CDO-ALLDAYEVENT:FALSE
SUMMARY:Bottoms Up Tanning Salon- Ribbon Cutting
DESCRIPTION:Come check out the newly remodeled Bottoms Up Tanning Salon and all their great services that have to offer!
X-ALT-DESC;FMTTYPE=text/html:Come check out the newly remodeled Bottoms Up Tanning Salon and all their great services that have to offer!&nbsp\;
LOCATION:1490 Alamo Drive\, Suite A Vacaville\, CA 95687
UID:e.1559.1897
SEQUENCE:3
DTSTAMP:20260420T222654Z
URL:https://business.vacavillechamber.com/events/details/bottoms-up-tanning-salon-ribbon-cutting-08-18-2016-1897
END:VEVENT

END:VCALENDAR
