BEGIN:VCALENDAR
VERSION:2.0
PRODID:-//ChamberMaster//Event Calendar 2.0//EN
METHOD:PUBLISH
X-PUBLISHED-TTL:P3D
REFRESH-INTERVAL:P3D
CALSCALE:GREGORIAN
BEGIN:VEVENT
DTSTART;VALUE=DATE:20180602
DTEND;VALUE=DATE:20180603
TRANSP:TRANSPARENT
X-MICROSOFT-CDO-ALLDAYEVENT:TRUE
SUMMARY:Boots and Bling Charity Event
DESCRIPTION:Boots and Bling Charity Event\n\nSoroptimist International of Vacaville Twilight
X-ALT-DESC;FMTTYPE=text/html:<span style="color: rgb(34\, 34\, 34)\; font-family: arial\, sans-serif\; font-size: 12.8px\;">Boots and Bling Charity Event<br />\nSoroptimist International of Vacaville Twilight</span>
LOCATION:WildVines Ranch 6902 Bucktown Rd
UID:e.1559.2084
SEQUENCE:3
DTSTAMP:20260419T171424Z
URL:https://business.vacavillechamber.com/events/details/boots-and-bling-charity-event-2084
END:VEVENT

END:VCALENDAR
