BEGIN:VCALENDAR
VERSION:2.0
PRODID:-//ChamberMaster//Event Calendar 2.0//EN
METHOD:PUBLISH
X-PUBLISHED-TTL:P3D
REFRESH-INTERVAL:P3D
CALSCALE:GREGORIAN
BEGIN:VEVENT
DTSTART:20171220T160000Z
DTEND:20171220T170000Z
X-MICROSOFT-CDO-ALLDAYEVENT:FALSE
SUMMARY:Board of Directors Meeting - canceled
DESCRIPTION:
X-ALT-DESC;FMTTYPE=text/html:
LOCATION:300 Main Street\, Suite A\, Vacaville\, CA 95688
UID:e.1559.1646
SEQUENCE:3
DTSTAMP:20260420T014046Z
URL:https://business.vacavillechamber.com/events/details/board-of-directors-meeting-canceled-1646
END:VEVENT

END:VCALENDAR
