BEGIN:VCALENDAR
VERSION:2.0
PRODID:-//ChamberMaster//Event Calendar 2.0//EN
METHOD:PUBLISH
X-PUBLISHED-TTL:P3D
REFRESH-INTERVAL:P3D
CALSCALE:GREGORIAN
BEGIN:VEVENT
DTSTART:20180925T170000Z
DTEND:20180925T200000Z
X-MICROSOFT-CDO-ALLDAYEVENT:FALSE
SUMMARY:Blake Austin College-Career Fair
DESCRIPTION:Employers will be available representing the following fields: \n\n\n\nNursing/Administrative\n\nCosmetology/Nail Tech\n\nMedical/Dental Assisting\n\nEsthetician\n\nand more\n\n\n\n\n\nOpen to the public. Dress prfessionally. Bring Resumes. Be prepared to Interview!
X-ALT-DESC;FMTTYPE=text/html:Employers will be available representing the following fields:&nbsp\;<br />\n<br />\nNursing/Administrative<br />\nCosmetology/Nail Tech<br />\nMedical/Dental Assisting<br />\nEsthetician<br />\nand more<br />\n<br />\n<br />\nOpen to the public. Dress prfessionally. Bring Resumes. Be prepared to Interview!
LOCATION:1679 E Monte Vista Ave\, Suite 200 Vacaville\, CA 95687
UID:e.1559.2930
SEQUENCE:3
DTSTAMP:20260419T130823Z
URL:https://business.vacavillechamber.com/events/details/blake-austin-college-career-fair-2930
END:VEVENT

END:VCALENDAR
