BEGIN:VCALENDAR
VERSION:2.0
PRODID:-//ChamberMaster//Event Calendar 2.0//EN
METHOD:PUBLISH
X-PUBLISHED-TTL:P3D
REFRESH-INTERVAL:P3D
CALSCALE:GREGORIAN
BEGIN:VEVENT
DTSTART:20170729T150000Z
DTEND:20170729T220000Z
X-MICROSOFT-CDO-ALLDAYEVENT:FALSE
SUMMARY:Bethany Lutheran Church- Parking Lot Sale
DESCRIPTION:Bethany Lutheran Church is having a Parking Lot Sale!\n\n\n\nSponsored by Bethany Lutheran Women's Missionary League. Proceeds will be donated to various charities. A great way to give and receive.\n\n\n\nYou can reserve a table for $5.00 or a 12x12 Space for $20\n\n\n\nTo reserve your space contact: \n\nKaye Grundmann- 707-365-4975 or kawilla43@gmail.com\n\n\n\nDrinks and food available- Sponsored by Bethany Youth Group
X-ALT-DESC;FMTTYPE=text/html:Bethany Lutheran Church is having a Parking Lot Sale!<br />\n<br />\nSponsored by Bethany Lutheran Women&#39\;s Missionary League. Proceeds will be donated to various charities. A great way to give and receive.<br />\n<br />\nYou can reserve a table for $5.00 or a 12x12 Space for $20<br />\n<br />\nTo reserve your space contact:&nbsp\;<br />\nKaye Grundmann- 707-365-4975 or kawilla43@gmail.com<br />\n<br />\nDrinks and food available- Sponsored by Bethany Youth Group
LOCATION:Bethany Lutheran Church 621 S. Orchard Ave Vacaville\, CA
UID:e.1559.1992
SEQUENCE:3
DTSTAMP:20260422T084135Z
URL:https://business.vacavillechamber.com/events/details/bethany-lutheran-church-parking-lot-sale-1992
END:VEVENT

END:VCALENDAR
