BEGIN:VCALENDAR
VERSION:2.0
PRODID:-//ChamberMaster//Event Calendar 2.0//EN
METHOD:PUBLISH
X-PUBLISHED-TTL:P3D
REFRESH-INTERVAL:P3D
CALSCALE:GREGORIAN
BEGIN:VEVENT
DTSTART:20161215T010000Z
DTEND:20161215T030000Z
X-MICROSOFT-CDO-ALLDAYEVENT:FALSE
SUMMARY:Assemblyman Frazier's Holiday Open House
DESCRIPTION:Assemblyman Frazier hopes you might save some time in your busy December schedule to stop by for some cheer and conversation at one of his holiday open houses.  Enjoy light refreshments and good conversation.
X-ALT-DESC;FMTTYPE=text/html:<span style="font-size:14px\;"><span style="color: rgb(34\, 34\, 34)\; font-family: Constantia\, serif\;">Assemblyman Frazier hopes you might save some time in your busy December schedule to stop by for some cheer and conversation at one of his holiday open houses.&nbsp\; Enjoy light refreshments and good conversation.</span></span>
LOCATION:State Assembly District Office 1261 Travis Blvd.\, Suite 110 Fairfield
UID:e.1559.1932
SEQUENCE:3
DTSTAMP:20260420T173209Z
URL:https://business.vacavillechamber.com/events/details/assemblyman-frazier-s-holiday-open-house-1932
END:VEVENT

END:VCALENDAR
