BEGIN:VCALENDAR
VERSION:2.0
PRODID:-//ChamberMaster//Event Calendar 2.0//EN
METHOD:PUBLISH
X-PUBLISHED-TTL:P3D
REFRESH-INTERVAL:P3D
CALSCALE:GREGORIAN
BEGIN:VEVENT
DTSTART:20180420T000000Z
DTEND:20180420T020000Z
X-MICROSOFT-CDO-ALLDAYEVENT:FALSE
SUMMARY:Art Reception for Donna Covey
DESCRIPTION:The Little Art Gallery@Vacaville Museum will feature Bay Area artist Donna Covey at a reception on April 19th from 5:00-7:00 pm. Join Donna and curator Lisa Rico for an evening viewing art\, enjoying appetizers and libations\, plus conversation with other art enthusiasts.
X-ALT-DESC;FMTTYPE=text/html:The Little Art Gallery@Vacaville Museum will feature Bay Area artist Donna Covey at a reception on April 19th from 5:00-7:00 pm. Join Donna and curator Lisa Rico for an evening viewing art\, enjoying appetizers and libations\, plus conversation with other art enthusiasts.
LOCATION:Vacaville Museum 213 Buck Avenue Vacaville\, CA
UID:e.1559.2072
SEQUENCE:3
DTSTAMP:20260419T200713Z
URL:https://business.vacavillechamber.com/events/details/art-reception-for-donna-covey-2072
END:VEVENT

END:VCALENDAR
