BEGIN:VCALENDAR
VERSION:2.0
PRODID:-//ChamberMaster//Event Calendar 2.0//EN
METHOD:PUBLISH
X-PUBLISHED-TTL:P3D
REFRESH-INTERVAL:P3D
CALSCALE:GREGORIAN
BEGIN:VEVENT
DTSTART:20150509T010000Z
DTEND:20150509T043000Z
X-MICROSOFT-CDO-ALLDAYEVENT:FALSE
SUMMARY:Annual Dinner Tailgate Style
DESCRIPTION:Join us at our Annual Dinner on Friday\, May 8th. This wonderful event will be held at the Yin Ranch this year. The Chamber will be recognizing our incoming and outgoing Chair of the Board as well as Directors. We will also be honoring our Business of the Year and our Ambassador of the Year.
X-ALT-DESC;FMTTYPE=text/html:Join us at our Annual Dinner on Friday\, May 8th. This wonderful event will be held at the Yin Ranch this year. The Chamber will be recognizing our incoming and outgoing Chair of the Board as well as Directors. We will also be honoring our Business of the Year and our Ambassador of the Year.
LOCATION:Yin Ranch\, 6319 Pleasant Valley Road\, Vacaville\, CA 95688
UID:e.1559.1603
SEQUENCE:3
DTSTAMP:20260421T172405Z
URL:https://business.vacavillechamber.com/events/details/annual-dinner-tailgate-style-05-08-2015-1603
END:VEVENT

END:VCALENDAR
