BEGIN:VCALENDAR
VERSION:2.0
PRODID:-//ChamberMaster//Event Calendar 2.0//EN
METHOD:PUBLISH
X-PUBLISHED-TTL:P3D
REFRESH-INTERVAL:P3D
CALSCALE:GREGORIAN
BEGIN:VEVENT
DTSTART:20160625T010000Z
DTEND:20160625T043000Z
X-MICROSOFT-CDO-ALLDAYEVENT:FALSE
SUMMARY:Annual Dinner
DESCRIPTION:Join us at our Annual Dinner on Friday\, June 24th. This wonderful event will be held again at the Yin Ranch this year. The Chamber will be recognizing our incoming and outgoing Chair of the Board as well as Directors. We will also be honoring our Business of the Year and our Ambassador of the Year.
X-ALT-DESC;FMTTYPE=text/html:<span style="line-height: 20.8px\;">Join us at our Annual Dinner on Friday\, June 24th. This wonderful event will be held again at the Yin Ranch this year. The Chamber will be recognizing our incoming and outgoing Chair of the Board as well as Directors. We will also be honoring our Business of the Year and our Ambassador of the Year.</span>
LOCATION:Yin Ranch\, 6319 Pleasants Valley Road\, Vacaville\, CA 95688
UID:e.1559.1827
SEQUENCE:3
DTSTAMP:20260421T005058Z
URL:https://business.vacavillechamber.com/events/details/annual-dinner-06-24-2016-1827
END:VEVENT

END:VCALENDAR
