BEGIN:VCALENDAR
VERSION:2.0
PRODID:-//ChamberMaster//Event Calendar 2.0//EN
METHOD:PUBLISH
X-PUBLISHED-TTL:P3D
REFRESH-INTERVAL:P3D
CALSCALE:GREGORIAN
BEGIN:VEVENT
DTSTART:20160420T163000Z
DTEND:20160420T200000Z
X-MICROSOFT-CDO-ALLDAYEVENT:FALSE
SUMMARY:Annual Business Walk
DESCRIPTION:Annual Business Walk\n\n\n\nCommunity Leaders visit with individual businesses to learn what is working well and what can be improved.
X-ALT-DESC;FMTTYPE=text/html:Annual Business Walk<br />\n<br />\nCommunity Leaders visit with individual businesses to learn what is working well and what can be improved.
LOCATION:Vacaville Businesses
UID:e.1559.1807
SEQUENCE:3
DTSTAMP:20260421T044541Z
URL:https://business.vacavillechamber.com/events/details/annual-business-walk-04-20-2016-1807
END:VEVENT

END:VCALENDAR
