BEGIN:VCALENDAR
VERSION:2.0
PRODID:-//ChamberMaster//Event Calendar 2.0//EN
METHOD:PUBLISH
X-PUBLISHED-TTL:P3D
REFRESH-INTERVAL:P3D
CALSCALE:GREGORIAN
BEGIN:VEVENT
DTSTART:20170810T150000Z
DTEND:20170810T160000Z
X-MICROSOFT-CDO-ALLDAYEVENT:FALSE
SUMMARY:Ambassadors Committee Meeting
DESCRIPTION:Serving as the goodwill arm of the Chamber\, Ambassadors assist in various activities including Grand Openings\, Ribbon Cuttings\, Mixers\, Wake-Ups\, and many other events and fundraisers. It is the goal of the Ambassadors to increase membership and members' knowledge of the programs\, services\, and benefits of membership with the Vacaville Chamber of Commerce.
X-ALT-DESC;FMTTYPE=text/html:Serving as the goodwill arm of the Chamber\, Ambassadors assist in various activities including Grand Openings\, Ribbon Cuttings\, Mixers\, Wake-Ups\, and many other events and fundraisers. It is the goal of the Ambassadors to increase membership and members&#39\; knowledge of the programs\, services\, and benefits of membership with the Vacaville Chamber of Commerce.
LOCATION:Hampton Inn & Suites\, 800 Mason Street\, Vacaville\, CA 95688
UID:e.1559.316
SEQUENCE:3
DTSTAMP:20260420T065149Z
URL:https://business.vacavillechamber.com/events/details/ambassador-committee-meeting-08-10-2017-316
END:VEVENT

END:VCALENDAR
