BEGIN:VCALENDAR
VERSION:2.0
PRODID:-//ChamberMaster//Event Calendar 2.0//EN
METHOD:PUBLISH
X-PUBLISHED-TTL:P3D
REFRESH-INTERVAL:P3D
CALSCALE:GREGORIAN
BEGIN:VEVENT
DTSTART:20161118T020000Z
DTEND:20161118T033000Z
X-MICROSOFT-CDO-ALLDAYEVENT:FALSE
SUMMARY:Ambassador Appreciation Party
DESCRIPTION:We couldn't do without our amazing Ambassadors! We appreciate you all!
X-ALT-DESC;FMTTYPE=text/html:We couldn&#39\;t do without our amazing Ambassadors! We appreciate you all!&nbsp\;
LOCATION:The Brass Tap 783 Orange Drive Vacaville\, CA 95687
UID:e.1559.1928
SEQUENCE:3
DTSTAMP:20260420T183806Z
URL:https://business.vacavillechamber.com/events/details/ambassador-appreciation-party-1928
END:VEVENT

END:VCALENDAR
