BEGIN:VCALENDAR
VERSION:2.0
PRODID:-//ChamberMaster//Event Calendar 2.0//EN
METHOD:PUBLISH
X-PUBLISHED-TTL:P3D
REFRESH-INTERVAL:P3D
CALSCALE:GREGORIAN
BEGIN:VEVENT
DTSTART:20170513T160000Z
DTEND:20170514T000000Z
X-MICROSOFT-CDO-ALLDAYEVENT:FALSE
SUMMARY:AM/PM Nut Tree- Re Grand Opening & Customers Appreciation Day
DESCRIPTION:RE GRAND OPENING AND CUSTOMERS APPRECIATION DAY!!\n\n\n\n\n\nA ribbon cut ceremony and raffle prizes draw will be done by Honorable city mayor Mr. Len Augustine. Ribbon Cutting at 11:00 am!\n\nFIRST PRIZE-49" LG DIGITAL TV.\n\nSECOND PRIZE-DELL LAPTOP.\n\nTHIRD PRIZE-APPLE WATCH\n\nFOURTH PRIZE-KINDLE FIRE TABLET\n\nRFFLAE TICKETS CAN BE OBTAINED FROM THE STORE STARTING \n\nNO PURCHASE NECESSARY.\n\nFREE GIFTS FROM VENDORS\n\nLIVE MUSIC AND FOOD\n\nFACE PAINTING FOR CHILDREN
X-ALT-DESC;FMTTYPE=text/html:<span style="color: rgb(75\, 79\, 86)\; font-family: Helvetica\, Arial\, sans-serif\; font-size: 14px\;">RE GRAND OPENING AND CUSTOMERS APPRECIATION DAY!!</span><br style="color: rgb(75\, 79\, 86)\; font-family: Helvetica\, Arial\, sans-serif\; font-size: 14px\;" />\n<br style="color: rgb(75\, 79\, 86)\; font-family: Helvetica\, Arial\, sans-serif\; font-size: 14px\;" />\n<br style="color: rgb(75\, 79\, 86)\; font-family: Helvetica\, Arial\, sans-serif\; font-size: 14px\;" />\n<span style="color: rgb(75\, 79\, 86)\; font-family: Helvetica\, Arial\, sans-serif\; font-size: 14px\;">A ribbon cut ceremony and raffle prizes draw will be done by Honorable city mayor Mr. Len Augustine. Ribbon Cutting at 11:00 am!</span><br style="color: rgb(75\, 79\, 86)\; font-family: Helvetica\, Arial\, sans-serif\; font-size: 14px\;" />\n<span style="color: rgb(75\, 79\, 86)\; font-family: Helvetica\, Arial\, sans-serif\; font-size: 14px\;">FIRST PRIZE-49&rdquo\; LG DIGITAL TV.</span><br style="color: rgb(75\, 79\, 86)\; font-family: Helvetica\, Arial\, sans-serif\; font-size: 14px\;" />\n<span style="color: rgb(75\, 79\, 86)\; font-family: Helvetica\, Arial\, sans-serif\; font-size: 14px\;">SECOND PRIZE-DELL LAPTOP.</span><br style="color: rgb(75\, 79\, 86)\; font-family: Helvetica\, Arial\, sans-serif\; font-size: 14px\;" />\n<span style="color: rgb(75\, 79\, 86)\; font-family: Helvetica\, Arial\, sans-serif\; font-size: 14px\;">THIRD PRIZE-APPLE WATCH</span><br style="color: rgb(75\, 79\, 86)\; font-family: Helvetica\, Arial\, sans-serif\; font-size: 14px\;" />\n<span style="color: rgb(75\, 79\, 86)\; font-family: Helvetica\, Arial\, sans-serif\; font-size: 14px\;">FOURTH PRIZE-KINDLE FIRE TABLET</span><br style="color: rgb(75\, 79\, 86)\; font-family: Helvetica\, Arial\, sans-serif\; font-size: 14px\;" />\n<span style="color: rgb(75\, 79\, 86)\; font-family: Helvetica\, Arial\, sans-serif\; font-size: 14px\;">RFFLAE TICKETS CAN BE OBTAINED FROM THE STORE STARTING&nbsp\;</span><br style="color: rgb(75\, 79\, 86)\; font-family: Helvetica\, Arial\, sans-serif\; font-size: 14px\;" />\n<span style="color: rgb(75\, 79\, 86)\; font-family: Helvetica\, Arial\, sans-serif\; font-size: 14px\;">NO PURCHASE NECESSARY.</span><br style="color: rgb(75\, 79\, 86)\; font-family: Helvetica\, Arial\, sans-serif\; font-size: 14px\;" />\n<span style="color: rgb(75\, 79\, 86)\; font-family: Helvetica\, Arial\, sans-serif\; font-size: 14px\;">FREE GIFTS FROM VENDORS</span><br style="color: rgb(75\, 79\, 86)\; font-family: Helvetica\, Arial\, sans-serif\; font-size: 14px\;" />\n<span style="color: rgb(75\, 79\, 86)\; font-family: Helvetica\, Arial\, sans-serif\; font-size: 14px\;">LIVE MUSIC AND FOOD</span><br />\n<span class="text_exposed_show" style="display: inline\; font-family: Helvetica\, Arial\, sans-serif\; color: rgb(75\, 79\, 86)\; font-size: 14px\;">FACE PAINTING FOR CHILDREN</span><br />\n<br />\n<br />\n&nbsp\;
LOCATION:2500 NUT TREE RD. VACAVILLE\, CA 95687 PH-707-446-0597
UID:e.1559.1985
SEQUENCE:3
DTSTAMP:20260420T105755Z
URL:https://business.vacavillechamber.com/events/details/am-pm-nut-tree-re-grand-opening-customers-appreciation-day-1985
END:VEVENT

END:VCALENDAR
