BEGIN:VCALENDAR
VERSION:2.0
PRODID:-//ChamberMaster//Event Calendar 2.0//EN
METHOD:PUBLISH
X-PUBLISHED-TTL:P3D
REFRESH-INTERVAL:P3D
CALSCALE:GREGORIAN
BEGIN:VEVENT
DTSTART:20260126T200000Z
DTEND:20260126T210000Z
X-MICROSOFT-CDO-ALLDAYEVENT:FALSE
SUMMARY:All Hearts Connect Care Home Ribbon Cutting and Grand Opening
DESCRIPTION:A warm welcome to a new care home in Vacaville.\n\nAll Hearts Connect is officially opening its doors\, and we're celebrating with a ribbon cutting! Join us on January 26th\, 2026 at 12:00 PM to help welcome this new business to our community.\n\nThey're focused on compassionate\, connection-driven care\, and we're excited to have them in town. Come meet the team\, show your support\, and help us cut the ribbon.\n\nLearn more here: https://allheartsconnect.com/
X-ALT-DESC;FMTTYPE=text/html:<p data-end="51" data-start="0">A warm welcome to a new care home in Vacaville.</p>\n\n<p data-end="247" data-start="53">All Hearts Connect is officially opening its doors\, and we&rsquo\;re celebrating with a ribbon cutting! Join us on <strong data-end="193" data-start="161">January 26th\, 2026 at 12:00 PM</strong> to help welcome this new business to our community.</p>\n\n<p data-end="415" data-start="249">They&rsquo\;re focused on compassionate\, connection-driven care\, and we&rsquo\;re excited to have them in town. Come meet the team\, show your support\, and help us cut the ribbon.</p>\n\n<p data-end="463" data-is-last-node="" data-is-only-node="" data-start="417">Learn more here: <a class="decorated-link" data-end="463" data-is-last-node="" data-start="434" href="https://allheartsconnect.com/" rel="noopener" target="_new">https://allheartsconnect.com/</a></p>\n
LOCATION:All Hearts Connect Care Home 749 Tedder Dr\, Vacaville\, CA 95687
UID:e.1559.6934
SEQUENCE:3
DTSTAMP:20260420T014140Z
URL:https://business.vacavillechamber.com/events/details/all-hearts-connect-care-home-ribbon-cutting-and-grand-opening-6934
END:VEVENT

END:VCALENDAR
