BEGIN:VCALENDAR
VERSION:2.0
PRODID:-//ChamberMaster//Event Calendar 2.0//EN
METHOD:PUBLISH
X-PUBLISHED-TTL:P3D
REFRESH-INTERVAL:P3D
CALSCALE:GREGORIAN
BEGIN:VEVENT
DTSTART:20170602T003000Z
DTEND:20170602T020000Z
X-MICROSOFT-CDO-ALLDAYEVENT:FALSE
SUMMARY:After Hours Mixer- Hosted by Young Artist Conservatory of Music
DESCRIPTION:Join us for our Chamber monthly After Hours Mixer hosted by Young Artist Conservatory of Music.
X-ALT-DESC;FMTTYPE=text/html:Join us for our Chamber monthly After Hours Mixer hosted by Young Artist Conservatory of Music.&nbsp\;&nbsp\;&nbsp\;&nbsp\;
LOCATION:500 Davis Street Vacaville
UID:e.1559.1947
SEQUENCE:3
DTSTAMP:20260420T094000Z
URL:https://business.vacavillechamber.com/events/details/after-hours-mixer-hosted-by-young-artist-conservatory-of-music-1947
END:VEVENT

END:VCALENDAR
