BEGIN:VCALENDAR
VERSION:2.0
PRODID:-//ChamberMaster//Event Calendar 2.0//EN
METHOD:PUBLISH
X-PUBLISHED-TTL:P3D
REFRESH-INTERVAL:P3D
CALSCALE:GREGORIAN
BEGIN:VEVENT
DTSTART:20170505T003000Z
DTEND:20170505T020000Z
X-MICROSOFT-CDO-ALLDAYEVENT:FALSE
SUMMARY:After Hours Mixer- Hosted by Vezer Family Vineyard
DESCRIPTION:Join us for our monthly After Hours Mixer hosted by Vezer Family Vineyard! Held at their Mankas Gardens location.
X-ALT-DESC;FMTTYPE=text/html:Join us for our monthly After Hours Mixer hosted by Vezer Family Vineyard! Held at their Mankas Gardens location. &nbsp\;
LOCATION:Mankas Gardens Tasting Room & Barrel Rooms 2522 Mankas Corner Road\, Suisun Valley
UID:e.1559.1976
SEQUENCE:3
DTSTAMP:20260420T105949Z
URL:https://business.vacavillechamber.com/events/details/after-hours-mixer-hosted-by-vezer-family-vineyard-1976
END:VEVENT

END:VCALENDAR
