BEGIN:VCALENDAR
VERSION:2.0
PRODID:-//ChamberMaster//Event Calendar 2.0//EN
METHOD:PUBLISH
X-PUBLISHED-TTL:P3D
REFRESH-INTERVAL:P3D
CALSCALE:GREGORIAN
BEGIN:VEVENT
DTSTART:20180202T013000Z
DTEND:20180202T030000Z
X-MICROSOFT-CDO-ALLDAYEVENT:FALSE
SUMMARY:After Hours Mixer- Hosted by Vacaville Performing Arts Theatre
DESCRIPTION:After hours Mixer hosted by the Vacaville Performing Arts Threatre!\n\nEnjoy appetizers\, drinks\, raffle and great networking!
X-ALT-DESC;FMTTYPE=text/html:After hours Mixer hosted by the Vacaville Performing Arts Threatre!<br />\nEnjoy appetizers\, drinks\, raffle and great networking!<br />\n&nbsp\;
LOCATION:1010 Ulatis Dr Vacaville
UID:e.1559.2034
SEQUENCE:3
DTSTAMP:20260419T230110Z
URL:https://business.vacavillechamber.com/events/details/after-hours-mixer-hosted-by-vacaville-performing-arts-theatre-2034
END:VEVENT

END:VCALENDAR
