BEGIN:VCALENDAR
VERSION:2.0
PRODID:-//ChamberMaster//Event Calendar 2.0//EN
METHOD:PUBLISH
X-PUBLISHED-TTL:P3D
REFRESH-INTERVAL:P3D
CALSCALE:GREGORIAN
BEGIN:VEVENT
DTSTART:20170203T013000Z
DTEND:20170203T030000Z
X-MICROSOFT-CDO-ALLDAYEVENT:FALSE
SUMMARY:After Hours Mixer- hosted by LeTip of Vacaville
DESCRIPTION:Join us for our monthly Chamber Mixer hosted by LeTip of Vacaville!
X-ALT-DESC;FMTTYPE=text/html:Join us for our monthly Chamber Mixer hosted by LeTip of Vacaville!&nbsp\;&nbsp\;&nbsp\;&nbsp\;
LOCATION:Opera House 560 Main St\, Suite C Vacaville
UID:e.1559.1943
SEQUENCE:3
DTSTAMP:20260420T145700Z
URL:https://business.vacavillechamber.com/events/details/after-hours-mixer-hosted-by-letip-of-vacaville-1943
END:VEVENT

END:VCALENDAR
