BEGIN:VCALENDAR
VERSION:2.0
PRODID:-//ChamberMaster//Event Calendar 2.0//EN
METHOD:PUBLISH
X-PUBLISHED-TTL:P3D
REFRESH-INTERVAL:P3D
CALSCALE:GREGORIAN
BEGIN:VEVENT
DTSTART:20180907T003000Z
DTEND:20180907T020000Z
X-MICROSOFT-CDO-ALLDAYEVENT:FALSE
SUMMARY:After Hours Mixer- Hosted by Holiday Inn Express
DESCRIPTION:Join us for our monthly Chamber Mixer\, hosted by Holiday Inn Express! Enjoy appetizers\, drinks\, raffles and great networking!\n\n\n\nDon't forget your raffle items and business cards!
X-ALT-DESC;FMTTYPE=text/html:Join us for our monthly Chamber Mixer\, hosted by Holiday Inn Express! Enjoy appetizers\, drinks\, raffles and great networking!<br />\n<br />\nDon&#39\;t forget your raffle items and business cards!
LOCATION:151 Lawrence Dr Vacaville\, CA
UID:e.1559.2044
SEQUENCE:3
DTSTAMP:20260419T130752Z
URL:https://business.vacavillechamber.com/events/details/after-hours-mixer-hosted-by-holiday-inn-express-2044
END:VEVENT

END:VCALENDAR
