BEGIN:VCALENDAR
VERSION:2.0
PRODID:-//ChamberMaster//Event Calendar 2.0//EN
METHOD:PUBLISH
X-PUBLISHED-TTL:P3D
REFRESH-INTERVAL:P3D
CALSCALE:GREGORIAN
BEGIN:VEVENT
DTSTART:20181102T003000Z
DTEND:20181102T020000Z
X-MICROSOFT-CDO-ALLDAYEVENT:FALSE
SUMMARY:After Hours Mixer- Hosted by Center For Freedom & Flight
DESCRIPTION:Join us and our host\, Center For Freedom & Flight\, for our monthly Chamber Mixer! Enjoy appetizers\, drinks and raffles!
X-ALT-DESC;FMTTYPE=text/html:Join us and our host\, Center For Freedom &amp\; Flight\, for our monthly Chamber Mixer! Enjoy appetizers\, drinks and raffles!
LOCATION:300 County Airport Road Vacaville\, CA
UID:e.1559.2046
SEQUENCE:3
DTSTAMP:20260421T094924Z
URL:https://business.vacavillechamber.com/events/details/after-hours-mixer-hosted-by-center-for-freedom-flight-2046
END:VEVENT

END:VCALENDAR
