BEGIN:VCALENDAR
VERSION:2.0
PRODID:-//ChamberMaster//Event Calendar 2.0//EN
METHOD:PUBLISH
X-PUBLISHED-TTL:P3D
REFRESH-INTERVAL:P3D
CALSCALE:GREGORIAN
BEGIN:VEVENT
DTSTART:20180302T013000Z
DTEND:20180302T030000Z
X-MICROSOFT-CDO-ALLDAYEVENT:FALSE
SUMMARY:After Hours Mixer
DESCRIPTION:Join us for the Innovation Summit After Hours Mixer! OPEN TO ALL. Mingle and Network with the attendees and speakers of the Innovation Summit.\n\n\n\n**You do not have to attend the Innovation Summit to attend the Mixer**
X-ALT-DESC;FMTTYPE=text/html:Join us for the Innovation Summit After Hours Mixer! OPEN TO ALL. Mingle and Network with the attendees and speakers of the Innovation Summit.<br />\n<br />\n**You do not have to attend the Innovation Summit to attend the Mixer**&nbsp\;&nbsp\;&nbsp\;&nbsp\;&nbsp\;
LOCATION:Sunrise Banquet and Event Center 620 Orange Drive Vacaville\, CA 95688
UID:e.1559.2062
SEQUENCE:3
DTSTAMP:20260419T213222Z
URL:https://business.vacavillechamber.com/events/details/after-hours-mixer-2062
END:VEVENT

END:VCALENDAR
