BEGIN:VCALENDAR
VERSION:2.0
PRODID:-//ChamberMaster//Event Calendar 2.0//EN
METHOD:PUBLISH
X-PUBLISHED-TTL:P3D
REFRESH-INTERVAL:P3D
CALSCALE:GREGORIAN
BEGIN:VEVENT
DTSTART:20170804T003000Z
DTEND:20170804T020000Z
X-MICROSOFT-CDO-ALLDAYEVENT:FALSE
SUMMARY:After Hours Mixer
DESCRIPTION:Join us and our host\, Hampton Inn & Suites\, for our monthly After Hours Mixer and get a look at the Hampton's new renovations!
X-ALT-DESC;FMTTYPE=text/html:Join us and our host\, Hampton Inn &amp\; Suites\, for our monthly After Hours Mixer and get a look at the Hampton&#39\;s new renovations!&nbsp\;<br />\n<br />\n&nbsp\;
LOCATION:800 Mason Street Vacaville\, CA 95688
UID:e.1559.1956
SEQUENCE:3
DTSTAMP:20260420T064704Z
URL:https://business.vacavillechamber.com/events/details/after-hours-mixer-1956
END:VEVENT

END:VCALENDAR
