BEGIN:VCALENDAR
VERSION:2.0
PRODID:-//ChamberMaster//Event Calendar 2.0//EN
METHOD:PUBLISH
X-PUBLISHED-TTL:P3D
REFRESH-INTERVAL:P3D
CALSCALE:GREGORIAN
BEGIN:VEVENT
DTSTART:20160426T230000Z
DTEND:20160427T010000Z
X-MICROSOFT-CDO-ALLDAYEVENT:FALSE
SUMMARY:Accessibility Seminar for Small Businesses
DESCRIPTION:Meet with State and Local Officials to learn what Small Businesses should know about public accessibility.
X-ALT-DESC;FMTTYPE=text/html:Meet with State and Local Officials to learn what Small Businesses should know about public accessibility.
LOCATION:Travis Credit Union's Community Room 1 Travis Way Vacaville\, CA 95688
UID:e.1559.1819
SEQUENCE:3
DTSTAMP:20260421T032122Z
URL:https://business.vacavillechamber.com/events/details/accessibility-seminar-for-small-businesses-04-26-2016-1819
END:VEVENT

END:VCALENDAR
