BEGIN:VCALENDAR
VERSION:2.0
PRODID:-//ChamberMaster//Event Calendar 2.0//EN
METHOD:PUBLISH
X-PUBLISHED-TTL:P3D
REFRESH-INTERVAL:P3D
CALSCALE:GREGORIAN
BEGIN:VEVENT
DTSTART:20170429T180000Z
DTEND:20170429T210000Z
X-MICROSOFT-CDO-ALLDAYEVENT:FALSE
SUMMARY:AAA Northern California\, Nevada\, & Utah- Grand Opening!
DESCRIPTION:Join the AAA team and celebrate their Grand Opening at their new location in the Nut Tree!
X-ALT-DESC;FMTTYPE=text/html:Join the AAA team and celebrate their&nbsp\;Grand Opening at their new location in the Nut Tree!&nbsp\;
LOCATION:1633 E Monte Vista Ave\, Vacaville
UID:e.1559.1970
SEQUENCE:3
DTSTAMP:20260420T121937Z
URL:https://business.vacavillechamber.com/events/details/aaa-northern-california-nevada-utah-grand-opening-1970
END:VEVENT

END:VCALENDAR
