BEGIN:VCALENDAR
VERSION:2.0
PRODID:-//ChamberMaster//Event Calendar 2.0//EN
METHOD:PUBLISH
X-PUBLISHED-TTL:P3D
REFRESH-INTERVAL:P3D
CALSCALE:GREGORIAN
BEGIN:VEVENT
DTSTART:20151003T190000Z
DTEND:20151003T233000Z
X-MICROSOFT-CDO-ALLDAYEVENT:FALSE
SUMMARY:8th Annual Doggy Derby "Barktoberfest"
DESCRIPTION:This event is for the Dogs! All family members are welcome especially the dogs! This is our annual fundraiser fun event. Admission is free and there is no charge to park. There is a small charge for the dog contests\, clinic services\, food and raffles (that is where the fundraising part comes in). We have a lot of vendors\, demonstrations\, bounce house and more that there is no charge for! We want to have everyone come out to see what we do\, show off your dogs\, and have a good time. Please let us know if you have adopted from us specifically\, rescued one of the Fresno Dogs or have a dog that rescued you. We want to honor them this year!!! This one is for you!!!!
X-ALT-DESC;FMTTYPE=text/html:This event is for the Dogs! All family members are welcome especially the dogs! This is our annual fundraiser fun event. Admission is free and there is no charge to park. There is a small charge for the dog contests\, clinic services\, food and raffles (that is where the fundraising part comes in). We have a lot of vendors\, demonstrations\, bounce house and more that there is no charge for! We want to have everyone come out to see what we do\, show off your dogs\, and have a good time. Please let us know if you have adopted from us specifically\, rescued one of the Fresno Dogs or have a dog that rescued you. We want to honor them this year!!! This one is for you!!!!
LOCATION:SPCA of Solano County\, 2200 Peabody Rd\, Vacaville
UID:e.1559.1791
SEQUENCE:3
DTSTAMP:20260421T110127Z
URL:https://business.vacavillechamber.com/events/details/8th-annual-doggy-derby-barktoberfest-10-03-2015-1791
END:VEVENT

END:VCALENDAR
