BEGIN:VCALENDAR
VERSION:2.0
PRODID:-//ChamberMaster//Event Calendar 2.0//EN
METHOD:PUBLISH
X-PUBLISHED-TTL:P3D
REFRESH-INTERVAL:P3D
CALSCALE:GREGORIAN
BEGIN:VEVENT
DTSTART:20160504T233000Z
DTEND:20160505T020000Z
X-MICROSOFT-CDO-ALLDAYEVENT:FALSE
SUMMARY:4th Annual Solano Business Connections Expo & Seminar
DESCRIPTION:Business professionals from every Chamber of Commerce in Solano County gather.
X-ALT-DESC;FMTTYPE=text/html:Business professionals from every Chamber of Commerce in Solano County gather.
LOCATION:Specialty Event Center 300 Chadbourne Road Fairfield
UID:e.1559.1811
SEQUENCE:3
DTSTAMP:20260421T021111Z
URL:https://business.vacavillechamber.com/events/details/4th-annual-solano-business-connections-expo-seminar-05-04-2016-1811
END:VEVENT

END:VCALENDAR
