BEGIN:VCALENDAR
VERSION:2.0
PRODID:-//ChamberMaster//Event Calendar 2.0//EN
METHOD:PUBLISH
X-PUBLISHED-TTL:P3D
REFRESH-INTERVAL:P3D
CALSCALE:GREGORIAN
BEGIN:VEVENT
DTSTART;VALUE=DATE:20171208
DTEND;VALUE=DATE:20171211
TRANSP:TRANSPARENT
X-MICROSOFT-CDO-ALLDAYEVENT:TRUE
SUMMARY:33rd Annual Live Nativity (Trinity Baptist Church)
DESCRIPTION:In 2017 the Live Nativity will be celebrating 33 continuous years of ministry presenting the Christmas story under the night sky. The LIVE NATIVITY presentations had a wonderful and humble start as a "drive through" Live Nativity\, telling the 1st Christmas story using music and numerous staged scenes. The LIVE NATIVITY has now grown into a full 45 to 50 minutes presentation using a live choir\, music\, actors\, lights\, sound\, and animals\, including sheep\, a camel\, and donkey! Live Nativity 2017 will be presented on December 8 (Friday)\, December 9 (Saturday) & December 10 (Sunday) at 6:00 pm & 7:30 pm nightly. Free Admission! Weather permitting\, the event is presented under the night sky with grandstand seating. In the event of rain\, the event moves indoors. We will also continue the tradition of hot cocoa and cookies for the evening. You\, your family and friends are invited to attend this annual Christmas tradition event\, so bring your blankets and gloves. We look forward to seeing you there! Contact the Church Office (707-448-5430) for more information. Please click on the following link to view the new 2017 LIVE NATIVITY promotional video: https://vimeo.com/232703692
X-ALT-DESC;FMTTYPE=text/html:In 2017 the Live Nativity will be celebrating 33 continuous years of ministry presenting the Christmas story under the night sky. The LIVE NATIVITY presentations had a wonderful and humble start as a &ldquo\;drive through&rdquo\; Live Nativity\, telling the 1st Christmas story using music and numerous staged scenes. The LIVE NATIVITY has now grown into a full 45 to 50 minutes presentation using a live choir\, music\, actors\, lights\, sound\, and animals\, including sheep\, a camel\, and donkey! Live Nativity 2017 will be presented on December 8 (Friday)\, December 9 (Saturday) &amp\; December 10 (Sunday) at 6:00 pm &amp\; 7:30 pm nightly. Free Admission! Weather permitting\, the event is presented under the night sky with grandstand seating. In the event of rain\, the event moves indoors. We will also continue the tradition of hot cocoa and cookies for the evening. You\, your family and friends are invited to attend this annual Christmas tradition event\, so bring your blankets and gloves. We look forward to seeing you there! Contact the Church Office (707-448-5430) for more information. Please click on the following link to view the new 2017 LIVE NATIVITY promotional video: https://vimeo.com/232703692
LOCATION:Trinity Baptist Church 401 W. Monte Vista Avenue\, Vacaville\, CA 95688
UID:e.1559.2029
SEQUENCE:3
DTSTAMP:20260420T013855Z
URL:https://business.vacavillechamber.com/events/details/33rd-annual-live-nativity-trinity-baptist-church-2029
END:VEVENT

END:VCALENDAR
