BEGIN:VCALENDAR
VERSION:2.0
PRODID:-//ChamberMaster//Event Calendar 2.0//EN
METHOD:PUBLISH
X-PUBLISHED-TTL:P3D
REFRESH-INTERVAL:P3D
CALSCALE:GREGORIAN
BEGIN:VEVENT
DTSTART;VALUE=DATE:20170908
DTEND;VALUE=DATE:20170909
TRANSP:TRANSPARENT
X-MICROSOFT-CDO-ALLDAYEVENT:TRUE
SUMMARY:28th Annual Cowtown Classic Golf Tournament
DESCRIPTION:A fun day for businesses to connect - lunch\, putting contest\, sponsored interactive holes\, games and prizes\, raffle\, dinner\n\n\n\nClick here for Sponsorship Options and Golf Sign Ups
X-ALT-DESC;FMTTYPE=text/html:A fun day for businesses to connect - lunch\, putting contest\, sponsored interactive holes\, games and prizes\, raffle\, dinner<br />\n<br />\n<a href="https://chambermaster.blob.core.windows.net/userfiles/UserFiles/chambers/1559/File/CowTown2017.pdf">Click here for Sponsorship Options and Golf Sign Ups</a>
LOCATION:Hiddenbrooke Golf Club\, Vallejo
UID:e.1559.1974
SEQUENCE:3
DTSTAMP:20260420T053729Z
URL:https://business.vacavillechamber.com/events/details/28th-annual-cowtown-classic-golf-tournament-1974
END:VEVENT

END:VCALENDAR
