BEGIN:VCALENDAR
VERSION:2.0
PRODID:-//ChamberMaster//Event Calendar 2.0//EN
METHOD:PUBLISH
X-PUBLISHED-TTL:P3D
REFRESH-INTERVAL:P3D
CALSCALE:GREGORIAN
BEGIN:VEVENT
DTSTART:20150911T170000Z
DTEND:20150912T010000Z
X-MICROSOFT-CDO-ALLDAYEVENT:FALSE
SUMMARY:26th Annual Cowtown Classic Golf Tournament
DESCRIPTION:Enjoy a day of golf\, interactive holes\, contests with prizes\, delicious food\, hosted beverages and a silent auction!\n\n\n\nGolfer Sign Up Form\n\n\n\nSponsor/Vendor Sign Up Form
X-ALT-DESC;FMTTYPE=text/html:<span style="line-height: 20.7999992370605px\;">&nbsp\;</span><span style="line-height: 20.7999992370605px\;">&#8203\;</span><span style="line-height: 20.7999992370605px\;">Enjoy a day of golf\, interactive holes\, contests with prizes\, delicious food\, hosted beverages and a silent auction!</span><br />\n<br />\n<a href="http://cloud.chambermaster.com/userfiles/UserFiles/chambers/1559/File/cowntownentryform2015.pdf">Golfer Sign Up Form</a><br />\n<br style="line-height: 20.7999992370605px\;" />\n<a href="http://cloud.chambermaster.com/userfiles/UserFiles/chambers/1559/File/CowtownClassic2015SponsorshipOpportunities.pdf">Sponsor/Vendor Sign Up Form</a><br />\n&nbsp\;
LOCATION:Green Tree Golf Course\, Vacaville
UID:e.1559.1764
SEQUENCE:3
DTSTAMP:20260421T120323Z
URL:https://business.vacavillechamber.com/events/details/26th-annual-cowtown-classic-golf-tournament-09-11-2015-1764
END:VEVENT

END:VCALENDAR
