BEGIN:VCALENDAR
VERSION:2.0
PRODID:-//ChamberMaster//Event Calendar 2.0//EN
METHOD:PUBLISH
X-PUBLISHED-TTL:P3D
REFRESH-INTERVAL:P3D
CALSCALE:GREGORIAN
BEGIN:VEVENT
DTSTART:20160923T003000Z
DTEND:20160923T020000Z
X-MICROSOFT-CDO-ALLDAYEVENT:FALSE
SUMMARY:100+ Women Who Care about Solano County 1st Anniversary Bash
DESCRIPTION:In the 1st Year of Giving\, 100+ Women Who Care about Solano County donated over $27\,000 to 4 local non-profits!!!! SANE-SART who provides sexual assault examinations was the 1st recipient of $5600. At our 2nd meeting\, Girls on the Run Napa & Solano received over $7500! In March\, we gave Meals on Wheels of Solano County over $7000! Most recently\, we donated over $6500 to CASA of Solano County who provides advocacy and partnership to Solano County foster children. In our 2nd Year of Giving\, 100+ Women Solano looks forward to GROWING to over 150 members and providing financial support to 4 more Solano County causes. We will start our 1st meeting of our 2nd year by donating money to help children who have been sexually assaulted in this community. For more information about 100+ Women Solano\, please go to the website www.100womensolano.org or send an email to 100womensolano@gmail.com.
X-ALT-DESC;FMTTYPE=text/html:In the 1st Year of Giving\, 100+ Women Who Care about Solano County donated over $27\,000 to 4 local non-profits!!!! SANE-SART who provides sexual assault examinations was the 1st recipient of $5600. At our 2nd meeting\, Girls on the Run Napa &amp\; Solano received over $7500! In March\, we gave Meals on Wheels of Solano County over $7000! Most recently\, we donated over $6500 to CASA of Solano County who provides advocacy and partnership to Solano County foster children. In our 2nd Year of Giving\, 100+ Women Solano looks forward to GROWING to over 150 members and providing financial support to 4 more Solano County causes. We will start our 1st meeting of our 2nd year by donating money to help children who have been sexually assaulted in this community. For more information about 100+ Women Solano\, please go to the website www.100womensolano.org or send an email to 100womensolano@gmail.com.
LOCATION:Vino Godfather 500 Walnut Ave Vallejo\, CA (located on Mare Island)
UID:e.1559.1905
SEQUENCE:3
DTSTAMP:20260420T210927Z
URL:https://business.vacavillechamber.com/events/details/100-women-who-care-about-solano-county-1st-anniversary-bash-1905
END:VEVENT

END:VCALENDAR
