BEGIN:VCALENDAR
VERSION:2.0
PRODID:-//ChamberMaster//Event Calendar 2.0//EN
METHOD:PUBLISH
X-PUBLISHED-TTL:P3D
REFRESH-INTERVAL:P3D
CALSCALE:GREGORIAN
BEGIN:VEVENT
DTSTART:20160401T003000Z
DTEND:20160401T020000Z
X-MICROSOFT-CDO-ALLDAYEVENT:FALSE
SUMMARY:100+ Women Who Care about Solano County
DESCRIPTION:This is a organization with the goal to maximize donations by 100+ women in a short amount of time to a local non-profit. We gather quarterly for presentations from 3 non-profits\, vote\, and the winner (majority votes) walks away with checks/cash from each member at the meeting. It's an opportunity for us to make a much larger impact as a group than as individuals.
X-ALT-DESC;FMTTYPE=text/html:This is a organization with the goal to maximize donations by 100+ women in a short amount of time to a local non-profit. We gather quarterly for presentations from 3 non-profits\, vote\, and the winner (majority votes) walks away with checks/cash from each member at the meeting. It&#39\;s an opportunity for us to make a much larger impact as a group than as individuals.
LOCATION:Vacaville Performing Arts Theatre Lobby 1001 Ulatis Drive Vacaville\, CA
UID:e.1559.1822
SEQUENCE:3
DTSTAMP:20260421T044419Z
URL:https://business.vacavillechamber.com/events/details/100-women-who-care-about-solano-county-03-31-2016-1822
END:VEVENT

END:VCALENDAR
