BEGIN:VCALENDAR
VERSION:2.0
PRODID:-//ChamberMaster//Event Calendar 2.0//EN
METHOD:PUBLISH
X-PUBLISHED-TTL:P3D
REFRESH-INTERVAL:P3D
CALSCALE:GREGORIAN
BEGIN:VEVENT
DTSTART:20160122T013000Z
DTEND:20160122T030000Z
X-MICROSOFT-CDO-ALLDAYEVENT:FALSE
SUMMARY:100 Women Who Care about Solano County
DESCRIPTION:100 Women Who Care is a group of women who care deeply about Solano County communities we call home. The group gathers four times a year for a one-hour meeting\, and each member writes a $100 check to a charity that the group selects. Right there\, that night\, the charity goes home with new and much needed funds. This combined donation of $10\,000 makes a real impact\, without the time-consuming fundraising events and planning. Our mission and our hope is to provide for those in greatest need in Solano County. Our Solano County 100 Women Who Care giving circle has already started donating to local causes. We hope you will join us at our next meeting to see how easy and fun it is! This meeting we will hear and vote on presentations by The Children's Nurturing Project\, The Leaven and Girls on the Run Napa & Solano.
X-ALT-DESC;FMTTYPE=text/html:100 Women Who Care is a group of women who care deeply about Solano County communities we call home. The group gathers four times a year for a one-hour meeting\, and each member writes a $100 check to a charity that the group selects. Right there\, that night\, the charity goes home with new and much needed funds. This combined donation of $10\,000 makes a real impact\, without the time-consuming fundraising events and planning. Our mission and our hope is to provide for those in greatest need in Solano County. Our Solano County 100 Women Who Care giving circle has already started donating to local causes. We hope you will join us at our next meeting to see how easy and fun it is! This meeting we will hear and vote on presentations by The Children&#39\;s Nurturing Project\, The Leaven and Girls on the Run Napa &amp\; Solano.
LOCATION:Solano Yacht Club 703 Civic Center Blvd Suisun City\, CA
UID:e.1559.1801
SEQUENCE:3
DTSTAMP:20260421T071109Z
URL:https://business.vacavillechamber.com/events/details/100-women-who-care-about-solano-county-01-21-2016-1801
END:VEVENT

END:VCALENDAR
